Workbook
Name BOMONTH: _xlfn.LAMBDA(_xlpm.dt,_xlpm.dt - DAY(_xlpm.dt) + 1)
Name feriado: [1]Feriado!$A$2:$A$937
Name feriado: #REF!
Name IN: _xlfn.LAMBDA(_xlpm.value,_xlpm.array,ISNUMBER(MATCH(_xlpm.value, _xlpm.array, 0)))
Name NULL: #REF!
Name SETDIFF: _xlfn.LAMBDA(_xlpm.list1,_xlpm.list2,_xlfn._xlws.FILTER(_xlpm.list1, NOT(ISNUMBER(MATCH(_xlpm.list1, _xlpm.list2, 0))), [0]!NULL))
Name SETINTERSECT: _xlfn.LAMBDA(_xlpm.list1,_xlpm.list2,_xlfn._xlws.FILTER(_xlpm.list1, ISNUMBER(MATCH(_xlpm.list1, _xlpm.list2, 0)), [0]!NULL))

Sheet Carteira de CRIs
B2: RPRI11 - RBR Premium Recebíveis Imobiliários
B3: Planilha de Fundamentos
B4: 45870
B6: Ativo | C6: Descrição da Operação | D6: Rating RBR | E6: Setor Imobiliário | F6: Indexador | G6: Taxa Investida (% a.a.) | H6: Taxa MTM (% a.a.) | I6: Montante Curva (R$) | J6: Montante MTM (R$) | K6: % PL | L6: Participação da RBR no CRI* | M6: Participação do Fundo no CRI | N6: Quantidade Emitida | O6: Quantidade Integralizada | P6: Posição do Fundo | Q6: Duration (anos) | R6: Vencimento | S6: LTV | T6: Cód. CETIP | U6: Tipo de Oferta | V6: Emissor | W6: Tipo de Risco | X6: Estratégia | Y6: % da Garantia no Estado de SP | Z6: % da Garantia em São Paulo Capital | AA6: % da Garantia em Localização Prime
B7: CRI Intecom | C7: Operação de financiamento a obra de R$ 43 milhões para um ativo logístico em João Pessoa. A empresa é a Intecom, do setor de logística e pertencente a um dos sócios do grupo Martins. O ativo será utilizado para a estratégia de logística do grupo no Nordeste, com contratos firmados com a Colgate e a Santa Helena. A operação conta como lastro uma nota comercial emitida pela devedora. Além disso, há alienação fiduciária do ativo de João Pessoa, avaliado em R$ 57 milhões, e alienação fiduciária de garantia extra (ativo da Proplogis 43), avaliado em R$ 40 milhões. Com isso, a operação tem um LTC máximo de 40% e um LTV máximo de 46%. Além disso, o CRI conta com a cessão fiduciária dos recebíveis de ambos os ativos e o aval do sócio da Intecom. | D7: A | E7: Residencial | F7: IPCA+ | G7: 0.099 | H7: 0.1034 | I7: 23805450 | J7: 23518345 | K7: 0.068938104 | L7: 0.98765116 | M7: 0.53488372 | N7: 43000 | O7: 43000 | P7: 23000 | Q7: 4.1019259 | R7: 49322 | S7: 0.53 | T7: 25A2889666 | U7: ICVM 160 | V7: Habitasec | W7: Financ. Obra | X7: Core | Y7: 0.75 | Z7: 0 | AA7: 0
B8: CRI MOS Jardins e Pinheiros | C8: Operação de desenvolvimento imobiliário de dois projeto residenciais localizados em regiões premium – Bairro do Jardins e Pinheiros, SP. Os empreendimentos serão desenvolvidos pela Incorporadora MOS que é focada em produtos de alto padrão. A operação conta com alienação fiduciária do terreno, alienação fiduciária de quotas da SPE, cessão fiduciária de futuros direitos creditórios, aval dos sócios altamente capitalizados e fundos de reserva. | D8: A | E8: Residencial | F8: CDI+ | G8: 0.0495 | H8: 0.0495 | I8: 26742212 | J8: 23103226 | K8: 0.067721287 | L8: 1 | M8: 0.19794183 | N8: 250000 | O8: 141971 | P8: 28102 | Q8: 0.201322 | R8: 46017 | S8: 0.55374784 | T8: 22L1575688, 22L2786958 | U8: ICVM 160 | V8: Opea | W8: Financ. Obra | X8: Core | Y8: 1 | Z8: 1 | AA8: 1
B9: CRI Tarjab Altino IPCA | C9: Operação de crédito com a Incorporadora Tarjab de financiamento à aquisição de terreno e obra para um empreendimento localizado na Vila Mariana. A operação conta com Alienação Fiduciária do Imóvel alvo, Alienação Fiduciária de Cotas da SPE detentora do projeto, Aval da Holding e dos sócios, bem como Fundo de Reserva de 2 PMTs. | D9: A+ | E9: Residencial | F9: IPCA+ | G9: 0.11 | H9: 0.1283 | I9: 22733898 | J9: 21566145 | K9: 0.063215721 | L9: 1 | M9: 0.99463529 | N9: 21250 | O9: 21250 | P9: 21136 | Q9: 2.3533044 | R9: 46871 | S9: 0.61471551 | T9: 24D3057203 | U9: ICVM 160 | V9: Opea | W9: Financ. Obra | X9: Core | Y9: 1 | Z9: 1 | AA9: 0
B10: CRI CB II | C10: Operação de carteira pulverizada lastreada em contratos nas modalidades de Home Equity originados pela CB. Operação conta com sobrecolaterização de taxa, fundo de reserva e alienação fiduciária. | D10: A | E10: Residencial | F10: IPCA+ | G10: 0.105 | H10: 0.1036 | I10: 18940265 | J10: 19222052 | K10: 0.056344603 | L10: 0.98383542 | M10: 0.42311326 | N10: 100000 | O10: 47635 | P10: 20155 | Q10: 8.9789405 | R10: 50910 | S10: 0.46500704 | T10: 24E1296964 | U10: ICVM 160 | V10: Vert | W10: Carteira Pulv. | X10: Core | Y10: 0.15176753 | Z10: 0.082639823 | AA10: 0
B11: CRI Carteira MRV IV (Série III) | C11: Operação de cessão de fluxo de recebíveis da carteira da MRV, são créditos em que a própria MRV financia a aquisição dos imóveis pelos mutuários, o que permite a utilização formal dos apartamentos como garantia direta do CRI. Os empreendimentos possuem alta diversificação regional, com carteira de recebíveis bastante pulverizada (os 10 maiores créditos representam menos de 3% da carteira total). O CRI conta com robusta estrutura de garantias, incluindo a alienação fiduciária dos imóveis objetos das aquisições , fundo de reserva e cobertura adicional de saldo. | D11: A+ | E11: Residencial | F11: IPCA+ | G11: 0.124 | H11: 0.1181 | I11: 18286398 | J11: 18786324 | K11: 0.055067377 | L11: 0.57748148 | M11: 0.27059259 | N11: 81000 | O11: 81000 | P11: 21918 | Q11: 5.65324 | R11: 49536 | S11: 0.57803744 | T11: 23F1508169 | U11: ICVM 160 | V11: True Sec | W11: Carteira Pulv. | X11: Core | Y11: 0.083303879 | Z11: 0 | AA11: 0
B12: CRI Paes & Gregori Itaim | C12: Operação de aquisição de terreno e desenvolvimento imobiliário de um projeto residencial localizado no Itaim Bibi, bairro nobre de São Paulo – SP. O empreendimento será desenvolvido pela Incorporadora Paes & Gregori, com perfil de produto alto padrão. A operação conta com alienação fiduciária do terreno, alienação fiduciária de quotas da SPE, cessão fiduciária de futuros direitos creditórios, aval e fundos de reserva, de liquidez e despesas. | D12: AA | E12: Residencial | F12: IPCA+ | G12: 0.098 | H12: 0.1421 | I12: 17862573 | J12: 17446812 | K12: 0.051140935 | L12: 0.985 | M12: 0.7461 | N12: 40000 | O12: 40000 | P12: 29844 | Q12: 0.59457737 | R12: 46197 | S12: 0.51591664 | T12: 23B0430541 | U12: CVM 160 | V12: Opea | W12: Financ. Obra | X12: Core | Y12: 1 | Z12: 1 | AA12: 1
B13: CRI FGR | C13: Operação com a incorporadora FGR para financiamento de um projeto residencial horizontal localizado em Goiânia. A FGR é tradicional no mercado imobiliário do centro-oeste com mais de 30 anos de atuação. A operação conta com Cessão Fiduciaria dos Recebíveis do projeto, AF dos lotes, AF de Quotas da SPE dententora do projeto, aval dos sócios e da holding e Fundo de Feserva de 3 PMTs. | D13: A+ | E13: Residencial | F13: IPCA+ | G13: 0.095 | H13: 0.1044 | I13: 17250596 | J13: 16729325 | K13: 0.049037804 | L13: 0.4802875 | M13: 0.1263 | N13: 160000 | O13: 160000 | P13: 20208 | Q13: 3.9257864 | R13: 48928 | S13: 0.39191345 | T13: 23L1279637 | U13: ICVM 160 | V13: Opea | W13: Financ. Obra | X13: Core | Y13: 0 | Z13: 0 | AA13: 0
B14: CRI Cury | C14: Operação exclusiva RBR para antecipação de um fluxo de pagamento parcelado, em função da venda de um terreno localizado na zona oeste de São Paulo, devido pela Cury Construtora e Incorporadora. A Cury é uma das principais players do mercado imobiliário brasileiro, com atuação preponderante na região sudeste, capital aberto desde 2020 e sólida performance financeira nos últimos anos. O CRI conta com Fundo de Reserva e o Contrato Lastro é garantido por fiança da Holding compradora. | D14: A | E14: Residencial | F14: IPCA+ | G14: 0.075 | H14: 0.1023 | I14: 17424149 | J14: 16561784 | K14: 0.048546699 | L14: 1 | M14: 0.19026845 | N14: 114500 | O14: 94209 | P14: 17925 | Q14: 2.1325037 | R14: 47486 | S14: 0 | T14: 24I1189880 | U14: CVM 160 | V14: Virgo | W14: Corporativo | X14: Tático | Y14: N/A | Z14: N/A | AA14: N/A
B15: CRI Yuca Augusta I | C15: Operação de crédito para aquisição e retrofit de um projeto residencial performado localizado no bairro de Cerqueira César em São Paulo. A devedora, Yuca, é pioneira no segmento de coliving. A operação conta com alienação fiduciária do terreno, alienação fiduciária de quotas da SPE, cessão fiduciária de futuros direitos creditórios e fundos de reserva e despesas. | D15: A- | E15: Residencial | F15: IPCA+ | G15: 0.086 | H15: 0.1221 | I15: 17490839 | J15: 16348051 | K15: 0.047920193 | L15: 1 | M15: 1 | N15: 16340 | O15: 16340 | P15: 16340 | Q15: 1.6755166 | R15: 46555 | S15: 0.7495 | T15: 22D1289605 | U15: ICVM 476 | V15: Opea | W15: Locação Mult. | X15: Core | Y15: 1 | Z15: 1 | AA15: 1
B16: CRI Landsol | C16: Operação de financiamento e desenvolvimento de obras em lotes residenciais. A emissão é lastreada em uma debênture emitida pela loteadora Cemara, companhia que atua majoritariamente no interior de São Paulo. A operação conta com a alienação fiduciária das matriculas dos lotes, alienação fiduciária de quotas, cessão fiduciária de futuros recebíveis e fundos de reserva e despesas. | D16: BBB | E16: Loteamento | F16: IPCA+ | G16: 0.095 | H16: 0.1007 | I16: 15996111 | J16: 15854166 | K16: 0.046472494 | L16: 0.1862875 | M16: 0.09669375 | N16: 160000 | O16: 160000 | P16: 15471 | Q16: 3.334976 | R16: 48442 | S16: 0.72728548 | T16: 22H1582777 | U16: ICVM 476 | V16: True Sec | W16: Carteira Pulv. | X16: Core | Y16: 1 | Z16: 0 | AA16: 0
B17: CRI Windsock | C17: Projeto de desenvolvimento de galpões logísticos Last Mile no aeroporto de Fortaleza, com localização estratégica no centro da cidade, caracterizada por baixa vacância e oferta limitada para novos empreendimentos. A operação conta com AF das cotas da SPE, Cessão Fiduciária dos contratos de locação futura e covenants que conferem maior segurança, como LTV de 60% e ICSD mínimo de 115%. | D17: A | E17: Galpão Logístico | F17: IPCA+ | G17: 0.119 | H17: 0.0923 | I17: 15020966 | J17: 14886049 | K17: 0.043634703 | L17: 0.983525 | M17: 0.375 | N17: 129500 | O17: 40000 | P17: 15000 | Q17: 4.0013461 | R17: 48330 | S17: 0.31007752 | T17: 25D5062397 | U17: CVM 160 | V17: Opea | W17: Financ. Obra | X17: Core | Y17: N/A | Z17: N/A | AA17: N/A
B18: CRI Creditas II Meza | C18: Operação de carteira pulverizada de créditos Home Equity originados pela Creditas. Conta com alienação fiduciária dos imóveis, sobrecolaterização de taxa e seguros MIP e DFI. | D18: AA- | E18: Residencial | F18: IPCA+ | G18: 0.12543495 | H18: 0.12955861 | I18: 14784208 | J18: 14389355 | K18: 0.04217877 | L18: 1 | M18: 0.31619391 | N18: 51013 | O18: 51013 | P18: 16130 | Q18: 3.6 | R18: 53220 | S18: 0.54578605 | T18: 24E1765736, 25C3746749, 25G0124296, 25H2240758 | U18: ICVM 160 | V18: Vert | W18: Carteira Pulv. | X18: Core | Y18: 0.54509178 | Z18: 0 | AA18: 0
B19: CRI SKR | C19: Operação de crédito para financiamento a aquisição de terreno e posterior desenvolvimento de empreendimento residencial de médio-alto padrão no coração do bairro de Pinheiros na capital de São Paulo pela SKR. A empresa tem sólida experiência no mercado imobiliário, acumulando +35 anos história, 2,6 mil unidades entregues, 45 prédios construídos que somam 685 mil m² construídos. Além disso, a empresa é conhecida pela atenção à arquitetura e pela sua especialidade na praça de Pinheiros. A operação conta com alienação fiduciária de quotas da SPE, alienação fiduciária do imóvel alvo e cessão de recebíveis na proporção do investimento, bem como aval da holding. | D19: A+ | E19: Residencial | F19: IPCA+ | G19: 0.095 | H19: 0.1042 | I19: 14945632 | J19: 14329731 | K19: 0.042003997 | L19: 1.091874 | M19: 1.091874 | N19: 16250 | O19: 12060 | P19: 13168 | Q19: 5.0912698 | R19: 47771 | S19: 0.5 | T19: 24J2479385 | U19: ICVM 160 | V19: Opea | W19: Corporativo | X19: Core | Y19: 1 | Z19: 1 | AA19: 1
B20: CRI Órigo | C20: Operação efetuada com auxílio e expertise do time de Infra da RBR. O CRI tem como objetivo o financiamento para construção de 7 Usinas Fotovoltaicas (“UFVs”) no modelo de Geração Distribuída Compartilhada. O empreendimento está sendo feito pela Órigo Energia, uma das maiores empresas e com mais experiência no setor de GD. A operação conta com cessão fiduciária de recebíveis dos contratos de locação, alienação fiduciária das cotas das SPE's, alienação fiduciária dos direitos de superfície e apólice de seguros. | D20: A- | E20: Outros | F20: IPCA+ | G20: 0.105 | H20: 0.0975 | I20: 13048310 | J20: 12679087 | K20: 0.037165549 | L20: 0.24798556 | M20: 0.11300408 | N20: 107474 | O20: 107474 | P20: 12145 | Q20: 4.6929796 | R20: 49527 | S20: 0.75 | T20: 23H1317741 | U20: ICVM 476 | V20: Opea | W20: Locação Mult. | X20: Core | Y20: 0 | Z20: 0 | AA20: 0
B21: CRI Carteira MRV V (Série III) | C21: Operação de cessão de fluxo de recebíveis de carteira da MRV, são créditos pulverizados em diversas regiões do Brasil. O CRI conta com robusta estrutura de garantias, incluindo os imóveis, fundo de reserva e cobertura adicional de saldo | D21: A+ | E21: Residencial | F21: IPCA+ | G21: 0.1125 | H21: 0.1349 | I21: 11020791 | J21: 9855428.2 | K21: 0.028888706 | L21: 0.95014955 | M21: 0.31757228 | N21: 40120 | O21: 40120 | P21: 12741 | Q21: 6.3361741 | R21: 49629 | S21: 0.53780595 | T21: 23I1230915 | U21: ICVM 476 | V21: True Sec | W21: Carteira Pulv. | X21: Core | Y21: 0.10901181 | Z21: 0 | AA21: 0
B22: CRI Viverde Meza | C22: Emissão de CRI com lastro em carteira de contratos pulverizados de compra e venda da segunda fase de um condomínio de lotes. O empreendimento localiza-se em São Pedro da Aldeia, cidade próxima a Búzios, no estado do Rio de Janeiro. A primeira fase foi entregue em agosto/2021, e a segunda, em junho/2023. Ambas as fases já se encontram 100% vendidas e possuem o habite-se emitido. | D22: A- | E22: Residencial | F22: IPCA+ | G22: 0.1095 | H22: 0.1286 | I22: 9943019 | J22: 9445385.6 | K22: 0.027686769 | L22: 1 | M22: 1 | N22: 14350 | O22: 13048 | P22: 13048 | Q22: 3.6037149 | R22: 49086 | S22: 0.45206691 | T22: 24E1453917 | U22: ICVM 160 | V22: Opea | W22: Carteira Pulv. | X22: Core | Y22: 0 | Z22: 0 | AA22: 0
B23: CRI Creditas II Senior | C23: Operação de carteira pulverizada de créditos Home Equity originados pela Creditas. Conta com alienação fiduciária dos imóveis, sobrecolaterização de taxa e seguros MIP e DFI. | D23: AA- | E23: Residencial | F23: IPCA+ | G23: 0.09 | H23: 0.1017 | I23: 8665889.9 | J23: 7957145.2 | K23: 0.023324367 | L23: 0.99859557 | M23: 0.0419496 | N23: 289086 | O23: 289085 | P23: 12127 | Q23: 4 | R23: 52489 | S23: 0.46693596 | T23: 24E1765607 | U23: ICVM 160 | V23: Vert | W23: Carteira Pulv. | X23: Core | Y23: 0.54509178 | Z23: 0 | AA23: 0
B24: CRI Yuca Augusta II | C24: Operação de crédito para aquisição e retrofit de um projeto residencial performado localizado no bairro de Cerqueira César em São Paulo. A devedora, Yuca, é pioneira no segmento de coliving. A operação conta com alienação fiduciária do terreno, alienação fiduciária de quotas da SPE, cessão fiduciária de futuros direitos creditórios e fundos de reserva e despesas. | D24: A- | E24: Residencial | F24: IPCA+ | G24: 0.09 | H24: 0.1207 | I24: 8354292.8 | J24: 7855071.9 | K24: 0.023025165 | L24: 1 | M24: 1 | N24: 7860 | O24: 7797 | P24: 7797 | Q24: 1.672349 | R24: 46555 | S24: 0.72702368 | T24: 22D1289606 | U24: ICVM 476 | V24: Opea | W24: Locação Mult. | X24: Core | Y24: 1 | Z24: 1 | AA24: 0
B25: CRI Yuny Jardim Paulista Série I | C25: Operação exclusiva RBR para financiamento à aquisição de terreno e posterior desenvolvimento de empreendimento residencial de alto padrão no Jardim Paulista pela Yuny Incorporadora. A empresa tem sólida experiência no mercado residencial há 25 anos e mais de 84 empreendimentos entregues. O CRI conta com sólidas garantias atreladas ao projeto incluindo o imóvel, SPE e recebíveis, bem como fiança corporativa da incorporadora e pessoal dos sócios. | D25: A | E25: Residencial | F25: CDI+ | G25: 0.037 | H25: 0.033954265 | I25: 6613586 | J25: 6695944.6 | K25: 0.019627475 | L25: 0.97932171 | M25: 0.056182171 | N25: 126000 | O25: 103200 | P25: 5798 | Q25: 4.4304043 | R25: 47661 | S25: 0.8 | T25: 24F1532998, 24F2830801 | U25: ICVM 160 | V25: Opea | W25: Financ. Obra | X25: Core | Y25: 1 | Z25: 1 | AA25: 1
B26: CRI CB I Sênior | C26: Operação de carteira pulverizada lastreada em contratos nas modalidades de Home Equity e Financiamento Imobiliário originados pela Crediblue a partir da estratégia de Warehousing. A Crediblue atua também como servicer na operação. Possui como garantias a Alienação Fiduciária dos imóveis envolvidos e Fundo de Reserva. | D26: AA- | E26: Residencial | F26: IPCA+ | G26: 0.11862711 | H26: 0.14780847 | I26: 6343662.4 | J26: 5851774.5 | K26: 0.017153003 | L26: 1 | M26: 0.13437495 | N26: 57717 | O26: 57347 | P26: 7706 | Q26: 3.6856212 | R26: 48928 | S26: 0.39788004 | T26: 23L2243789, 23L2242655 | U26: ICVM 160 | V26: Vert | W26: Carteira Pulv. | X26: Core | Y26: 0.38954844 | Z26: 0 | AA26: 0
B27: CRI Pulverizado MK IPCA | C27: A operação financia, de forma pulverizada, obras de projetos de menor porte e utiliza uma robusta estrutura de monitoramento e de garantias para mitigar riscos. Assim, o CRI conta com Alienação Fiduciária de Imóveis, Cessão Fiduciária de Recebíveis, Alienação Fiduciária de Cotas bem como liberação de recursos conforme reembolso por meio do Fundo de Obras individualizado para cada empreendimento. Além disso, também temos Fundo de Reserva e Fundo de Revolvência na operação. | D27: A | E27: Residencial | F27: IPCA+ | G27: 0.105 | H27: 0.10487558 | I27: 5473889.7 | J27: 5407854.4 | K27: 0.015851763 | L27: 1 | M27: 0.28011711 | N27: 60000 | O27: 18785 | P27: 5262 | Q27: 3.6082284 | R27: 47417 | S27: 0.63801448 | T27: 24J4831399, 25F2013653 | U27: CVM 160 | V27: leverage | W27: Carteira Pulv. | X27: Core | Y27: N/A | Z27: N/A | AA27: N/A
B28: CRI Carteira MRV V (Série II) | C28: Operação de cessão de fluxo de recebíveis de carteira da MRV, são créditos pulverizados em diversas regiões do Brasil. O CRI conta com robusta estrutura de garantias, incluindo os imóveis, fundo de reserva e cobertura adicional de saldo | D28: A+ | E28: Residencial | F28: IPCA+ | G28: 0.1 | H28: 0.1309 | I28: 4997150.1 | J28: 4340745.5 | K28: 0.012723802 | L28: 0.43297381 | M28: 0.18764253 | N28: 32450 | O28: 32450 | P28: 6089 | Q28: 5.0939831 | R28: 48869 | S28: 0.53780595 | T28: 23I1230828 | U28: ICVM 476 | V28: True Sec | W28: Carteira Pulv. | X28: Core | Y28: 0.10901181 | Z28: 0 | AA28: 0
B29: CRI Mora | C29: Operação de crédito voltada para antecipação de contratos de locação lastreada em recebíveis de empreendimento residencial localizado na Vila Madalena - SP. A operação conta com Alienação Fiduciaria de Imóvel, visitas ao ativo garantia e monitoramento de evolução de obra. A empresa realiza o desenvolvimento imobiliário, aquisição e gestão de imóveis para locação residencial. | D29: A- | E29: Residencial | F29: IPCA+ | G29: 0.095 | H29: 0.1173 | I29: 4043573.3 | J29: 3754792.4 | K29: 0.011006228 | L29: 1 | M29: 1 | N29: 5292 | O29: 3176 | P29: 3176 | Q29: 3.8567159 | R29: 47744 | S29: 0.44047639 | T29: 20I0904073 | U29: ICVM 476 | V29: Virgo | W29: Locação Mult. | X29: Core | Y29: 1 | Z29: 1 | AA29: 0
B30: CRI Longitude | C30: Operação lastreada em Carteira Pulv. de contratos de compra e venda de lotes residenciais. A operação utiliza-se dos recebíveis da Carteira Pulv. para pagamento de principal de juros, além de alienação fiduciária dos ativos, coobrigação da cedente, subordinação de 30%, aval corporativo da holding operacional do grupo e fiança dos sócios. | D30: A | E30: Loteamento | F30: IPCA+ | G30: 0.095 | H30: 0.119 | I30: 2302365.2 | J30: 2212639.8 | K30: 0.0064857962 | L30: 1 | M30: 1 | N30: 8000 | O30: 8000 | P30: 8000 | Q30: 2.07752 | R30: 48515 | S30: 0.24889003 | T30: 18I0295172 | U30: ICVM 476 | V30: True Sec | W30: Carteira Pulv. | X30: Core | Y30: 1 | Z30: 0 | AA30: 0

Sheet Resumo CRIs por CETIP
B2: RPRI11 - RBR Premium Recebíveis Imobiliários
B3: Planilha de Fundamentos | Resumo CRIs por CETIP
B4: ='Carteira de CRIs'!B4 -> 45870
B6: Ativo | C6: Cód. CETIP | D6: Grupo | E6: Indexador | F6: Taxa Investida (% a.a.) | G6: Taxa MTM (% a.a.) | H6: Montante Curva (R$) | I6: Montante MTM (R$) | J6: % PL | K6: Quantidade Emitida | L6: Quantidade Integralizada | M6: Posição do Fundo | N6: Duration (anos) | O6: Vencimento
B7: CRI Intecom | C7: 25A2889666 | D7: CRI Intecom | E7: IPCA+ | F7: 0.099 | G7: 0.1034 | H7: 23805450 | I7: 23518345 | J7: 0.068938104 | K7: 43000 | L7: 43000 | M7: 23000 | N7: 4.1019259 | O7: 49322
B8: CRI MOS Jardins e Pinheiros | C8: 22L1575688 | D8: CRI MOS Jardins e Pinheiros | E8: CDI+ | F8: 0.0495 | G8: 0.0495 | H8: 8510149 | I8: 8458876 | J8: 0.024795064 | K8: 150000 | L8: 50000 | M8: 9897 | N8: 0.201322 | O8: 46017
B9: CRI MOS Jardins e Pinheiros II | C9: 22L2786958 | D9: CRI MOS Jardins e Pinheiros | E9: CDI+ | F9: 0.0495 | G9: 0.0495 | H9: 18232063 | I9: 14644350 | J9: 0.042926222 | K9: 100000 | L9: 91971 | M9: 18205 | N9: 0.201322 | O9: 46017
B10: CRI Tarjab Altino IPCA | C10: 24D3057203 | D10: CRI Tarjab Altino IPCA | E10: IPCA+ | F10: 0.11 | G10: 0.1283 | H10: 22733898 | I10: 21566145 | J10: 0.063215721 | K10: 21250 | L10: 21250 | M10: 21136 | N10: 2.3533044 | O10: 46871
B11: CRI CB II | C11: 24E1296964 | D11: CRI CB II | E11: IPCA+ | F11: 0.105 | G11: 0.1036 | H11: 18940265 | I11: 19222052 | J11: 0.056344603 | K11: 100000 | L11: 47635 | M11: 20155 | N11: 8.9789405 | O11: 50910
B12: CRI Carteira MRV IV (Série III) | C12: 23F1508169 | D12: CRI Carteira MRV IV (Série III) | E12: IPCA+ | F12: 0.124 | G12: 0.1181 | H12: 18286398 | I12: 18786324 | J12: 0.055067377 | K12: 81000 | L12: 81000 | M12: 21918 | N12: 5.65324 | O12: 49536
B13: CRI Paes & Gregori Itaim | C13: 23B0430541 | D13: CRI Paes & Gregori Itaim | E13: IPCA+ | F13: 0.098 | G13: 0.1421 | H13: 17862573 | I13: 17446812 | J13: 0.051140935 | K13: 40000 | L13: 40000 | M13: 29844 | N13: 0.59457737 | O13: 46197
B14: CRI FGR | C14: 23L1279637 | D14: CRI FGR | E14: IPCA+ | F14: 0.095 | G14: 0.1044 | H14: 17250596 | I14: 16729325 | J14: 0.049037804 | K14: 160000 | L14: 160000 | M14: 20208 | N14: 3.9257864 | O14: 48928
B15: CRI Cury | C15: 24I1189880 | D15: CRI Cury | E15: IPCA+ | F15: 0.075 | G15: 0.1023 | H15: 17424149 | I15: 16561784 | J15: 0.048546699 | K15: 114500 | L15: 94209 | M15: 17925 | N15: 2.1325037 | O15: 47486
B16: CRI Yuca Augusta I | C16: 22D1289605 | D16: CRI Yuca Augusta I | E16: IPCA+ | F16: 0.086 | G16: 0.1221 | H16: 17490839 | I16: 16348051 | J16: 0.047920193 | K16: 16340 | L16: 16340 | M16: 16340 | N16: 1.6755166 | O16: 46555
B17: CRI Landsol | C17: 22H1582777 | D17: CRI Landsol | E17: IPCA+ | F17: 0.095 | G17: 0.1007 | H17: 15996111 | I17: 15854166 | J17: 0.046472494 | K17: 160000 | L17: 160000 | M17: 15471 | N17: 3.334976 | O17: 48442
B18: CRI Windsock | C18: 25D5062397 | D18: CRI Windsock | E18: IPCA+ | F18: 0.119 | G18: 0.0923 | H18: 15020966 | I18: 14886049 | J18: 0.043634703 | K18: 129500 | L18: 40000 | M18: 15000 | N18: 4.0013461 | O18: 48330
... B37: CRI Longitude | C37: 18I0295172 | D37: CRI Longitude | E37: IPCA+ | F37: 0.095 | G37: 0.119 | H37: 2302365.2 | I37: 2212639.8 | J37: 0.0064857962 | K37: 8000 | L37: 8000 | M37: 8000 | N37: 2.07752 | O37: 48515

Sheet Resultado
B2: RPRI11 - RBR Premium Recebíveis Imobiliários
B3: Planilha de Fundamentos | Resultado
B4: ='Carteira de CRIs'!B4 -> 45870
C7: 45870 | D7: 45839 | E7: 45809 | F7: 45778 | G7: 45748 | H7: 45717 | I7: 45689 | J7: 45658 | K7: 45627 | L7: 45597 | M7: 45566 | N7: 45536 | O7: 45505 | P7: 45474 | Q7: 45444 | R7: 45413 | S7: 45383 | T7: 45352 | U7: 45323 | V7: 45292 | W7: 45261 | X7: 45231 | Y7: 45200 | Z7: 45170 | AA7: 45139 | AB7: 45108 | AC7: 45078 | AD7: 45047 | AE7: 45017 | AF7: 44986 | AG7: 44958 | AH7: 44927 | AI7: 44896 | AJ7: 44866 | AK7: 44835 | AL7: 44805 | AM7: 44774 | AN7: 44743 | AO7: 44713 | AP7: 44682 | AQ7: 44652 | AR7: 44621 | AS7: 44593 | AU7: Início
B8: Cotas Emitidas (Início Mês) | C8: 3471728 | D8: 3471728 | E8: 3471728 | F8: 3471728 | G8: 3471728 | H8: 3471728 | I8: 3471728 | J8: 3471728 | K8: 3471728 | L8: 3471728 | M8: 3471728 | N8: 3471728 | O8: 3471728 | P8: 3471728 | Q8: 3471728 | R8: 3471728 | S8: 3471728 | T8: 3471728 | U8: 3459775 | V8: 3135997 | W8: 2371542 | X8: 2241755 | Y8: 2241755 | Z8: 2241755 | AA8: 2241755 | AB8: 2241755 | AC8: 2241755 | AD8: 2241755 | AE8: 2241755 | AF8: 2241755 | AG8: 2241755 | AH8: 2241755 | AI8: 2241755 | AJ8: 2241755 | AK8: 2241755 | AL8: 2241755 | AM8: 2241755 | AN8: 2241755 | AO8: 1804035 | AP8: 1376039 | AQ8: 772881 | AR8: 637004 | AS8: 158999
B9: Cotas Emitidas (Fim Mês) | C9: 3471728 | D9: 3471728 | E9: 3471728 | F9: 3471728 | G9: 3471728 | H9: 3471728 | I9: 3471728 | J9: 3471728 | K9: 3471728 | L9: 3471728 | M9: 3471728 | N9: 3471728 | O9: 3471728 | P9: 3471728 | Q9: 3471728 | R9: 3471728 | S9: 3471728 | T9: 3471728 | U9: 3471728 | V9: 3459775 | W9: 3135997 | X9: 2241755 | Y9: 2241755 | Z9: 2241755 | AA9: 2241755 | AB9: 2241755 | AC9: 2241755 | AD9: 2241755 | AE9: 2241755 | AF9: 2241755 | AG9: 2241755 | AH9: 2241755 | AI9: 2241755 | AJ9: 2241755 | AK9: 2241755 | AL9: 2241755 | AM9: 2241755 | AN9: 2241755 | AO9: 1804035 | AP9: 1376039 | AQ9: 772881 | AR9: 637004 | AS9: 158999
B10: Cota a Mercado | C10: 83.14 | D10: 87.2 | E10: 87.85 | F10: 88 | G10: 89.39 | H10: 88.77 | I10: 83.75 | J10: 79.31 | K10: 82.16 | L10: 86.96 | M10: 86.27 | N10: 88.95 | O10: 92.95 | P10: 93.7 | Q10: 93.49 | R10: 95.86 | S10: 98.38 | T10: 100.77 | U10: 102 | V10: 103.4 | W10: 103.8 | X10: 102 | Y10: 101.32 | Z10: 98.55 | AA10: 96.68 | AB10: 98.5 | AC10: 98 | AD10: 97 | AE10: 94.37 | AF10: 98.42 | AG10: 92.8 | AH10: 93.4 | AI10: 97.49 | AJ10: 94.06 | AK10: 96.51 | AL10: 98.95 | AM10: 99.45 | AN10: 100.83 | AO10: - | AP10: - | AQ10: - | AR10: - | AS10: - | AU10: 97.49
B11: PL / cota | C11: 98.265648 | D11: 98.801107 | E11: 98.033153 | F11: 99.830251 | G11: 99.798351 | H11: 97.833603 | I11: 98.274523 | J11: 98.758143 | K11: 97.615756 | L11: 98.893097 | M11: 99.285338 | N11: 99.38879 | O11: 99.850467 | P11: 99.90093 | Q11: 99.362126 | R11: 99.778883 | S11: 99.640069 | T11: 100.47054 | U11: 100.8067 | V11: 101.10328 | W11: 101.79 | X11: 101.29871 | Y11: 99.58685 | Z11: 101.19806 | AA11: 101.86292 | AB11: 102.15314 | AC11: 101.90955 | AD11: 101.41431 | AE11: 101.31158 | AF11: 101.61616 | AG11: 101.19022 | AH11: 101.04657 | AI11: 100.57755 | AJ11: 100.73838 | AK11: 101.68863 | AL11: 101.46225 | AM11: 101.36805 | AN11: 100.80589 | AO11: 102.49711 | AP11: 102.48275 | AQ11: 102.25894 | AR11: 102.54518 | AS11: 100.50769
B13: DRE Gerencial
B14: Resultado RPRI11 (R$) | C14: 45870 | D14: 45839 | E14: 45809 | F14: 45778 | G14: 45748 | H14: 45717 | I14: 45689 | J14: 45658 | K14: 45627 | L14: 45597 | M14: 45566 | N14: 45536 | O14: 45505 | P14: 45474 | Q14: 45444 | R14: 45413 | S14: 45383 | T14: 45352 | U14: 45323 | V14: 45292 | W14: 45261 | X14: 45231 | Y14: 45200 | Z14: 45170 | AA14: 45139 | AB14: 45108 | AC14: 45078 | AD14: 45047 | AE14: 45017 | AF14: 44986 | AG14: 44958 | AH14: 44927 | AI14: 44896 | AJ14: 44866 | AK14: 44835 | AL14: 44805 | AM14: 44774 | AN14: 44743 | AO14: 44713 | AP14: 44682 | AQ14: 44652 | AR14: 44621 | AS14: 44593 | AU14: Início
B15: (+) Receitas | C15: 3585821 | D15: 4025513.8 | E15: 3815752.3 | F15: 4553045.1 | G15: 5391303.2 | H15: 4222099.7 | I15: 3796363 | J15: 4045492.4 | K15: 4213376.2 | L15: 3561984.3 | M15: 3679301.2 | N15: 3613248.7 | O15: 3854515.8 | P15: 4239277.3 | Q15: 3723663.6 | R15: 3753554.9 | S15: 4099569.1 | T15: 3792558.7 | U15: 3548800.4 | V15: 3861051 | W15: 2671440 | X15: 2272206.5 | Y15: 2332206 | Z15: 1928706.4 | AA15: 2202792.3 | AB15: 2323506.6 | AC15: 2671158.4 | AD15: 3431031 | AE15: 2852679.7 | AF15: 3427310.5 | AG15: 2632660.2 | AH15: 2958737.7 | AI15: 2944637 | AJ15: 2567641.9 | AK15: 2442337.6 | AL15: 2629722.7 | AM15: 3257705.2 | AN15: 2648961.3 | AO15: 2160297.3 | AP15: 1807642.2 | AQ15: 1229201.3 | AR15: 449541.93 | AS15: 13916.16 | AU15: 88231751
B16: Juros (CRI) | C16: 3509465.3 | D16: 3973705 | E16: 3757933 | F16: 4485565.6 | G16: 5349104 | H16: 4134584.6 | I16: 3522920.6 | J16: 3551503.4 | K16: 3901314.9 | L16: 3287388.4 | M16: 3335752.5 | N16: 3281011.1 | O16: 3386995.4 | P16: 3741175.8 | Q16: 3234850.5 | R16: 2995531.3 | S16: 2968103 | T16: 2753402.4 | U16: 2618050.9 | V16: 3122658.1 | W16: 2263764 | X16: 2130647.1 | Y16: 2168669 | Z16: 1784358.5 | AA16: 2081936.4 | AB16: 2212506.9 | AC16: 2556059.1 | AD16: 3400411.6 | AE16: 2729592.5 | AF16: 3301081.4 | AG16: 2487820.4 | AH16: 2768744.9 | AI16: 2598647.3 | AJ16: 2504057.7 | AK16: 2406854.7 | AL16: 2458116.5 | AM16: 3130265.7 | AN16: 2292186.4 | AO16: 1826441.6 | AP16: 1601556.5 | AQ16: 1152615.4 | AR16: 341361.21 | AS16: 0 | AU16: 78184372
B17: Liquidez | C17: 76355.631 | D17: 51808.819 | E17: 57819.242 | F17: 67479.554 | G17: 42199.287 | H17: 87515.058 | I17: 273442.33 | J17: 493989 | K17: 312061.33 | L17: 274595.85 | M17: 343548.65 | N17: 332237.67 | O17: 467520.46 | P17: 498101.51 | Q17: 488813.02 | R17: 758023.65 | S17: 1131466.1 | T17: 1039156.3 | U17: 930749.42 | V17: 738392.93 | W17: 407677 | X17: 141559.43 | Y17: 163537 | Z17: 144347.81 | AA17: 120855.95 | AB17: 110999.7 | AC17: 115099.3 | AD17: 30619.39 | AE17: 123087.18 | AF17: 126229.08 | AG17: 144839.8 | AH17: 189992.81 | AI17: 345989.7 | AJ17: 63584.127 | AK17: 35482.95 | AL17: 171606.19 | AM17: 127439.52 | AN17: 356774.83 | AO17: 333855.7 | AP17: 206085.74 | AQ17: 76585.872 | AR17: 108180.72 | AS17: 13916.16 | AU17: 10047379
B18: (-) Despesas | C18: -532658.09 | D18: -455326.15 | E18: -482385.41 | F18: -501920 | G18: -420703.27 | H18: -418778.52 | I18: -444311.36 | J18: -481359.68 | K18: -440465.63 | L18: -424980.02 | M18: -514536.01 | N18: -471093.77 | O18: -496075.21 | P18: -516485.49 | Q18: -448024.15 | R18: -471471.98 | S18: -494659.96 | T18: -461136.49 | U18: -435357.16 | V18: -476798.28 | W18: -346308 | X18: -293682.59 | Y18: -306604 | Z18: -296240.85 | AA18: -341815.46 | AB18: -311333.41 | AC18: -310491.44 | AD18: -329342.04 | AE18: -297779.21 | AF18: -339724.06 | AG18: -265655.5 | AH18: -333033.45 | AI18: -332263.51 | AJ18: -283209.53 | AK18: -277735.69 | AL18: -291195.07 | AM18: -323044.34 | AN18: -279990.09 | AO18: -210511.08 | AP18: -140971.84 | AQ18: -94534.58 | AR18: -58638.58 | AS18: -31875.25 | AU18: -10515196
B19: Despesas do Fundo | C19: -532658.09 | D19: -455326.15 | E19: -482385.41 | F19: -501920 | G19: -420703.27 | H19: -418778.52 | I19: -444311.36 | J19: -481359.68 | K19: -440465.63 | L19: -424980.02 | M19: -514536.01 | N19: -471093.77 | O19: -496075.21 | P19: -516485.49 | Q19: -448024.15 | R19: -471471.98 | S19: -494659.96 | T19: -461136.49 | U19: -435357.16 | V19: -476798.28 | W19: -346308 | X19: -293682.59 | Y19: -306604 | Z19: -296240.85 | AA19: -341815.46 | AB19: -311333.41 | AC19: -310491.44 | AD19: -329342.04 | AE19: -297779.21 | AF19: -339724.06 | AG19: -265655.5 | AH19: -333033.45 | AI19: -332263.51 | AJ19: -283209.53 | AK19: -277735.69 | AL19: -291195.07 | AM19: -323044.34 | AN19: -279990.09 | AO19: -210511.08 | AP19: -140971.84 | AQ19: -94534.58 | AR19: -58638.58 | AS19: -31875.25 | AU19: -10515196
B20: (=) FFO | Funds from Operations | C20: 3053162.9 | D20: 3570187.6 | E20: 3333366.9 | F20: 4051125.1 | G20: 4970600 | H20: 3803321.1 | I20: 3352051.6 | J20: 3564132.7 | K20: 3772910.6 | L20: 3137004.3 | M20: 3164765.1 | N20: 3142155 | O20: 3358440.6 | P20: 3722791.8 | Q20: 3275639.4 | R20: 3282082.9 | S20: 3604909.1 | T20: 3331422.2 | U20: 3113443.2 | V20: 3384252.7 | W20: 2325133 | X20: 1978523.9 | Y20: 2025602 | Z20: 1632465.5 | AA20: 1860976.9 | AB20: 2012173.2 | AC20: 2360666.9 | AD20: 3101688.9 | AE20: 2554900.4 | AF20: 3087586.4 | AG20: 2367004.7 | AH20: 2625704.2 | AI20: 2612373.5 | AJ20: 2284432.3 | AK20: 2164601.9 | AL20: 2338527.6 | AM20: 2934660.8 | AN20: 2368971.2 | AO20: 1949786.3 | AP20: 1666670.4 | AQ20: 1134666.7 | AR20: 390903.35 | AS20: -17959.09 | AU20: 77716556
B21: Receitas Não-Recorrentes CRIs | C21: 115645.12 | D21: 50422.091 | E21: -1375.5425 | F21: 14962.801 | G21: 12719.978 | H21: 12719.978 | I21: 11266.571 | J21: 199323.8 | K21: 248712.8 | L21: 10049.439 | M21: 50848.084 | N21: 11357.086 | O21: 7889.7193 | P21: 15977.597 | Q21: 682160.54 | R21: 432231.92 | S21: 7934.128 | T21: 14875.756 | U21: 12852.21 | V21: 25220.374 | W21: 941813 | X21: 73765.31 | Y21: 85705 | Z21: 113199.88 | AA21: 97606.293 | AB21: 88084.149 | AC21: 72213.797 | AD21: 106930.05 | AE21: 63668.094 | AF21: 157622.6 | AG21: 24409.011 | AH21: 504952.4 | AI21: -1416.5601 | AJ21: 26498.32 | AK21: 343.66518 | AL21: 250729.44 | AM21: 767529.96 | AN21: 252365.23 | AO21: 7429.5712 | AP21: 7890.9621 | AQ21: 6803.9001 | AR21: 4487.9299 | AS21: 0 | AU21: 4978740.3
B22: (=) Resultado Final | C22: 3168808 | D22: 3620609.7 | E22: 3331991.3 | F22: 4066087.9 | G22: 4983320 | H22: 3816041.1 | I22: 3363318.2 | J22: 3763456.5 | K22: 4021623.4 | L22: 3147053.7 | M22: 3215613.2 | N22: 3153512 | O22: 3366330.4 | P22: 3738769.4 | Q22: 3957799.9 | R22: 3714314.8 | S22: 3612843.3 | T22: 3346298 | U22: 3126295.4 | V22: 3409473.1 | W22: 3266946 | X22: 2052289.2 | Y22: 2111308 | Z22: 1745665.4 | AA22: 1958583.2 | AB22: 2100257.3 | AC22: 2432880.7 | AD22: 3208619 | AE22: 2618568.5 | AF22: 3245209 | AG22: 2391413.7 | AH22: 3130656.6 | AI22: 2610956.9 | AJ22: 2310930.7 | AK22: 2164945.6 | AL22: 2589257 | AM22: 3702190.8 | AN22: 2621336.4 | AO22: 1957215.8 | AP22: 1674561.4 | AQ22: 1141470.6 | AR22: 395391.28 | AS22: -17959.09 | AU22: 82695296
B23: Reservas | C23: 129333.61 | D23: 24704.679 | E23: 486909.48 | F23: 99985.669 | G23: -817246.35 | H23: 2859.6809 | I23: 281996.24 | J23: -291728.54 | K23: -723481.76 | L23: 151087.88 | M23: 82528.368 | N23: -28956.838 | O23: 105397.65 | P23: -93455.008 | Q23: -312485.54 | R23: -69000.449 | S23: 32471.142 | T23: 299016.44 | U23: -519018.99 | V23: -223290.63 | W23: 631754 | X23: -32542.941 | Y23: -18360 | Z23: -47738.614 | AA23: 8256.333 | AB23: -141497.66 | AC23: -145137.52 | AD23: 294337.48 | AE23: -295712.96 | AF23: 443015.25 | AG23: -298692.3 | AH23: 440550.63 | AI23: 415412.31 | AJ23: 491263.09 | AK23: 413072.65 | AL23: -11238.793 | AM23: -899997.06 | AN23: -267493.65 | AO23: 5574.2416 | AP23: -23314.571 | AQ23: -214013.37 | AR23: -25928.963 | AS23: 17959.09 | AU23: -500832.92
B24: Rendimento Novos Cotistas | W24: 382228 | AU24: 382227.5
B25: (=) Rendimento Distribuído | C25: 3298141.6 | D25: 3645314.4 | E25: 3818900.8 | F25: 4166073.6 | G25: 4166073.6 | H25: 3818900.8 | I25: 3645314.4 | J25: 3471728 | K25: 3298141.6 | L25: 3298141.6 | M25: 3298141.6 | N25: 3124555.2 | O25: 3471728 | P25: 3645314.4 | Q25: 3645314.4 | R25: 3645314.4 | S25: 3645314.4 | T25: 3645314.4 | U25: 3645314.4 | V25: 3632763.8 | W25: 2252965 | X25: 2084832.2 | Y25: 2129667 | Z25: 1793404 | AA25: 1950326.9 | AB25: 2241755 | AC25: 2578018.2 | AD25: 2914281.5 | AE25: 2914281.5 | AF25: 2802193.8 | AG25: 2690106 | AH25: 2690106 | AI25: 3026369.2 | AJ25: 2802193.8 | AK25: 2578018.2 | AL25: 2578018.3 | AM25: 2802193.8 | AN25: 2353842.8 | AO25: 1962790.1 | AP25: 1651246.8 | AQ25: 927457.2 | AR25: 369462.32 | AS25: 0 | AU25: 82576690
B26: Rendimento / Cota (R$ / cota) | C26: 0.95 | D26: 1.05 | E26: 1.1 | F26: 1.2 | G26: 1.2 | H26: 1.1 | I26: 1.05 | J26: 1 | K26: 0.95 | L26: 0.95 | M26: 0.95 | N26: 0.9 | O26: 1 | P26: 1.05 | Q26: 1.05 | R26: 1.05 | S26: 1.05 | T26: 1.05 | U26: 1.05 | V26: 1.05 | W26: 0.95 | X26: 0.93 | Y26: 0.95 | Z26: 0.8 | AA26: 0.87 | AB26: 1 | AC26: 1.15 | AD26: 1.3 | AE26: 1.3 | AF26: 1.25 | AG26: 1.2 | AH26: 1.2 | AI26: 1.35 | AJ26: 1.25 | AK26: 1.15 | AL26: 1.15 | AM26: 1.25 | AN26: 1.05 | AO26: 1.088 | AP26: 1.2 | AQ26: 1.2 | AR26: 0.58 | AS26: 0 | AT26: 9.918 | AU26: 33.418
B27: Dividend Yield sobre cota a mercado (Anualizado) | C27: 0.14607223 | D27: 0.15445963 | E27: 0.16104817 | F27: 0.17648444 | G27: 0.17353452 | H27: 0.15926377 | I27: 0.16126795 | J27: 0.16225149 | K27: 0.14792687 | L27: 0.13926561 | M27: 0.1404478 | N27: 0.12840642 | O27: 0.13702152 | P27: 0.14307712 | Q27: 0.14341861 | R27: 0.13965664 | S27: 0.13586693 | T27: 0.13245775 | U27: 0.130769 | V27: 0.12889842 | W27: 0.1155 | X27: 0.11506867 | Y27: 0.1185 | Z27: 0.10188156 | AA27: 0.11349324 | AB27: 0.12886551 | AC27: 0.15026979 | AD27: 0.17322525 | AE27: 0.17842467 | AF27: 0.16351817 | AG27: 0.1666982 | AH27: 0.16555057 | AI27: 0.17942953 | AJ27: 0.17166091 | AK27: 0.15274395 | AL27: 0.14873366 | AM27: 0.16170591 | AN27: 0.13237437 | AO27: - | AP27: - | AQ27: - | AR27: - | AS27: -
B28: Dividend Yield sobre cota a mercado (Mensal) | C28: 0.01142651 | D28: 0.012041284 | E28: 0.012521343 | F28: 0.013636364 | G28: 0.01342432 | H28: 0.012391574 | I28: 0.012537313 | J28: 0.01260875 | K28: 0.011562804 | L28: 0.010924563 | M28: 0.011011939 | N28: 0.010118044 | O28: 0.010758472 | P28: 0.011205977 | Q28: 0.011231148 | R28: 0.010953474 | S28: 0.010672901 | T28: 0.010419768 | U28: 0.010294118 | V28: 0.010154739 | W28: 0.0092 | X28: 0.0091176471 | Y28: 0.0094 | Z28: 0.0081177067 | AA28: 0.0089987588 | AB28: 0.010152284 | AC28: 0.011734694 | AD28: 0.013402062 | AE28: 0.013775564 | AF28: 0.012700671 | AG28: 0.012931034 | AH28: 0.012847966 | AI28: 0.013847574 | AJ28: 0.01328939 | AK28: 0.011915864 | AL28: 0.011622031 | AM28: 0.01256913 | AN28: 0.010413567 | AO28: - | AP28: - | AQ28: - | AR28: - | AS28: -
B29: Dividend Yield sobre cota PL (Anualizado) | C29: 0.12238385 | D29: 0.13525358 | E29: 0.14327678 | F29: 0.15417384 | G29: 0.15422642 | H29: 0.14358732 | I29: 0.13602143 | J29: 0.12850969 | K29: 0.12332938 | L29: 0.12156589 | M29: 0.12106008 | N29: 0.11424285 | O29: 0.12702554 | P29: 0.13367747 | Q29: 0.134445 | R29: 0.13385056 | S29: 0.13404797 | T29: 0.13287552 | U29: 0.13240673 | V29: 0.13199588 | W29: 0.1179 | X29: 0.11590594 | Y29: 0.1207 | Z29: 0.099098705 | AA29: 0.10744491 | AB29: 0.1240064 | AC29: 0.14414297 | AD29: 0.16514656 | AE29: 0.165326 | AF29: 0.15802247 | AG29: 0.15196486 | AH29: 0.1521952 | AI29: 0.17350893 | AJ29: 0.1594947 | AK29: 0.14447585 | AL29: 0.14481855 | AM29: 0.15843585 | AN29: 0.13240786 | AO29: 0.13508539 | AP29: 0.14992322 | AQ29: 0.15027281 | AR29: 0.070024234 | AS29: -
B30: Dividend Yield sobre cota PL (Mensal) | C30: 0.0096676714 | D30: 0.010627411 | E30: 0.011220694 | F30: 0.012020404 | G30: 0.012024247 | H30: 0.011243581 | I30: 0.010684356 | J30: 0.010125747 | K30: 0.0097385252 | L30: 0.0096063328 | M30: 0.0095683816 | N30: 0.0090553472 | O30: 0.010014976 | P30: 0.010510413 | Q30: 0.010567407 | R30: 0.010523269 | S30: 0.010537929 | T30: 0.010450825 | U30: 0.010415974 | V30: 0.010385419 | W30: 0.0093 | X30: 0.0091807685 | Y30: 0.0095 | Z30: 0.0079052902 | AA30: 0.0085408902 | AB30: 0.0097892246 | AC30: 0.011284517 | AD30: 0.012818704 | AE30: 0.012831702 | AF30: 0.012301193 | AG30: 0.011858853 | AH30: 0.011875713 | AI30: 0.013422479 | AJ30: 0.012408379 | AK30: 0.011309033 | AL30: 0.011334264 | AM30: 0.012331302 | AN30: 0.010416058 | AO30: 0.010614933 | AP30: 0.011709288 | AQ30: 0.011734915 | AR30: 0.0056560434 | AS30: -
B32: Abertura da Distribuição
C33: 45870 | D33: 45839 | E33: 45809 | F33: 45778 | G33: 45748 | H33: 45717 | I33: 45689 | J33: 45658 | K33: 45627 | L33: 45597 | M33: 45566 | N33: 45536 | O33: 45505 | P33: 45474 | Q33: 45444 | R33: 45413 | S33: 45383 | T33: 45352 | U33: 45323 | V33: 45292 | W33: 45261 | X33: 45231 | Y33: 45200 | Z33: 45170 | AA33: 45139 | AB33: 45108 | AC33: 45078 | AD33: 45047 | AE33: 45017 | AF33: 44986 | AG33: 44958 | AH33: 44927 | AI33: 44896 | AJ33: 44866 | AK33: 44835 | AL33: 44805 | AM33: 44774 | AN33: 44743 | AO33: 44713 | AP33: 44682 | AQ33: 44652 | AR33: 44621 | AS33: 44593
B34: Receita CRIs | C34: 1.0108699 | D34: 1.1445899 | E34: 1.0824388 | F34: 1.2920268 | G34: 1.5407612 | H34: 1.1909299 | I34: 1.0147456 | J34: 1.0229786 | K34: 1.1237386 | L34: 0.94690265 | M34: 0.96083348 | N34: 0.9450657 | O34: 0.97559353 | P34: 1.077612 | Q34: 0.93176958 | R34: 0.86283582 | S34: 0.85493535 | T34: 0.79309276 | U34: 0.75410601 | V34: 0.90256103 | W34: 0.95455356 | X34: 0.95043707 | Y34: 0.96739784 | Z34: 0.79596501 | AA34: 0.92870827 | AB34: 0.98695303 | AC34: 1.1402045 | AD34: 1.5168525 | AE34: 1.2176141 | AF34: 1.4725433 | AG34: 1.1097646 | AH34: 1.2350792 | AI34: 1.1594451 | AJ34: 1.1172785 | AK34: 1.0736475 | AL34: 1.0965143 | AM34: 1.396346 | AN34: 1.0224964 | AO34: 1.0124203 | AP34: 1.1638889 | AQ34: 1.3409091 | AR34: 0.5358855 | AS34: 0
B35: Receita FIIs + Liquidez | C35: 0.021993552 | D35: 0.014923064 | E35: 0.016654312 | F35: 0.019436878 | G35: 0.012155125 | H35: 0.025207925 | I35: 0.078762602 | J35: 0.14228908 | K35: 0.089886456 | L35: 0.079094864 | M35: 0.098956095 | N35: 0.09569807 | O35: 0.13466506 | P35: 0.14347366 | Q35: 0.14079819 | R35: 0.21834189 | S35: 0.32590863 | T35: 0.29931963 | U35: 0.26809399 | V35: 0.21342224 | W35: 0.17190361 | X35: 0.063146699 | Y35: 0.072950483 | Z35: 0.064390537 | AA35: 0.053911309 | AB35: 0.049514643 | AC35: 0.05134339 | AD35: 0.013658669 | AE35: 0.054906616 | AF35: 0.056308152 | AG35: 0.064610003 | AH35: 0.084751817 | AI35: 0.15433877 | AJ35: 0.028363549 | AK35: 0.015828202 | AL35: 0.076549932 | AM35: 0.05929772 | AN35: 0.15914979 | AO35: 0.17618423 | AP35: 0.15350502 | AQ35: 0.10387436 | AR35: 0.17683933 | AS35: 0.098767854
B36: Receitas Não-Recorrentes | C36: 0.033310537 | D36: 0.014523629 | E36: -0.00039621264 | F36: 0.0043099001 | G36: 0.0036638751 | H36: 0.0036638751 | I36: 0.0032452343 | J36: 0.057413427 | K36: 0.071639483 | L36: 0.0028946503 | M36: 0.014646333 | N36: 0.0032713063 | O36: 0.0022725626 | P36: 0.004602203 | Q36: 0.1964902 | R36: 0.12450051 | S36: 0.0022853542 | T36: 0.0042848276 | U36: 0.0037019635 | V36: 0.0072895994 | W36: 0.39713126 | X36: 0.032905161 | Y36: 0.038231379 | Z36: 0.0504961 | AA36: 0.043540125 | AB36: 0.039292496 | AC36: 0.032213064 | AD36: 0.04769926 | AE36: 0.028401005 | AF36: 0.070312145 | AG36: 0.010888349 | AH36: 0.2252487 | AI36: -0.00063189783 | AJ36: 0.011820346 | AK36: 0.00015330185 | AL36: 0.11184516 | AM36: 0.34237906 | AN36: 0.11257485 | AO36: 0.0041183077 | AP36: 0.0057345483 | AQ36: 0.15838406 | AR36: 0.0070453716 | AS36: 0
B37: Despesas do Fundo | C37: -0.15342737 | D37: -0.1311526 | E37: -0.13894678 | F37: -0.14457354 | G37: -0.12117979 | H37: -0.12062538 | I37: -0.12797989 | J37: -0.13865132 | K37: -0.12687216 | L37: -0.12241167 | M37: -0.14820747 | N37: -0.13569432 | O37: -0.14289 | P37: -0.148769 | Q37: -0.12904932 | R37: -0.13580326 | S37: -0.14248235 | T37: -0.13282622 | U37: -0.12540071 | V37: -0.13781193 | W37: -0.14602644 | X37: -0.13100566 | Y37: -0.13676955 | Z37: -0.13214684 | AA37: -0.15247672 | AB37: -0.13887932 | AC37: -0.13850373 | AD37: -0.14691259 | AE37: -0.13283307 | AF37: -0.15154379 | AG37: -0.11850336 | AH37: -0.15053965 | AI37: -0.15194846 | AJ37: -0.13133005 | AK37: -0.14246533 | AL37: -0.14777208 | AM37: -0.14620937 | AN37: -0.12842037 | AO37: -0.12535698 | AP37: -0.11117896 | AQ37: -0.12402438 | AR37: -0.091618279 | AS37: -0.20727948
B38: Despesas Não-Recorrentes | C38: 0 | D38: 0 | E38: 0 | F38: 0 | G38: 0 | H38: 0 | I38: 0 | J38: 0 | K38: 0 | L38: 0 | M38: 0 | N38: 0 | O38: 0 | P38: 0 | Q38: 0 | R38: 0 | S38: 0 | T38: 0 | U38: 0 | V38: 0 | W38: 0 | X38: 0 | Y38: 0 | Z38: 0 | AA38: 0 | AB38: 0 | AC38: 0 | AD38: 0 | AE38: 0 | AF38: 0 | AG38: 0 | AH38: 0 | AI38: 0 | AJ38: 0 | AK38: 0 | AL38: 0 | AM38: 0 | AN38: 0 | AO38: 0 | AP38: 0 | AQ38: 0 | AR38: 0 | AS38: 0
B39: Reservas | C39: 0.037253383 | D39: 0.0071159603 | E39: 0.14024989 | F39: 0.028799972 | G39: -0.23540046 | H39: 0.00082370534 | I39: 0.081226479 | J39: -0.084029781 | K39: -0.20839241 | L39: 0.043519505 | M39: 0.023771554 | N39: -0.0083407567 | O39: 0.030358844 | P39: -0.026918874 | Q39: -0.090008646 | R39: -0.019874958 | S39: 0.0093530201 | T39: 0.086128993 | U39: 0.14949875 | V39: 0.06453906 | W39: -0.26638942 | X39: 0.014516725 | Y39: 0.0081898504 | Z39: 0.021295197 | AA39: -0.0036829774 | AB39: 0.063119146 | AC39: 0.064742811 | AD39: -0.13129779 | AE39: 0.13191136 | AF39: -0.19761983 | AG39: 0.13324039 | AH39: -0.19454003 | AI39: 0.18879647 | AJ39: 0.22386769 | AK39: 0.20283631 | AL39: 0.012862661 | AM39: -0.40181342 | AN39: -0.11580067 | AO39: 0.020634145 | AP39: -0.011949493 | AQ39: -0.27914317 | AR39: -0.048151927 | AS39: 0.10851163
B40: Rendimento Novos Cotistas | C40: 0 | D40: 0 | E40: 0 | F40: 0 | G40: 0 | H40: 0 | I40: 0 | J40: 0 | K40: 0 | L40: 0 | M40: 0 | N40: 0 | O40: 0 | P40: 0 | Q40: 0 | R40: 0 | S40: 0 | T40: 0 | U40: 0 | V40: 0 | W40: -0.16117256 | X40: 0 | Y40: 0 | Z40: 0 | AA40: 0 | AB40: 0 | AC40: 0 | AD40: 0 | AE40: 0 | AF40: 0 | AG40: 0 | AH40: 0 | AI40: 0 | AJ40: 0 | AK40: 0 | AL40: 0 | AM40: 0 | AN40: 0 | AO40: 0 | AP40: 0 | AQ40: 0 | AR40: 0 | AS40: 0
B41: Total Distribuído | C41: 0.95 | D41: 1.05 | E41: 1.1 | F41: 1.2 | G41: 1.2 | H41: 1.1 | I41: 1.05 | J41: 1 | K41: 0.95 | L41: 0.95 | M41: 0.95 | N41: 0.9 | O41: 1 | P41: 1.05 | Q41: 1.05 | R41: 1.05 | S41: 1.05 | T41: 1.05 | U41: 1.05 | V41: 1.05 | W41: 0.95 | X41: 0.93 | Y41: 0.95 | Z41: 0.8 | AA41: 0.87 | AB41: 1 | AC41: 1.15 | AD41: 1.3 | AE41: 1.3 | AF41: 1.25 | AG41: 1.2 | AH41: 1.2 | AI41: 1.35 | AJ41: 1.25 | AK41: 1.15 | AL41: 1.15 | AM41: 1.25 | AN41: 1.05 | AO41: 1.088 | AP41: 1.2 | AQ41: 1.2 | AR41: 0.58 | AS41: 1.3877788e-17

Sheet Sensibilidade
B2: RPRI11 - RBR Premium Recebíveis Imobiliários
B3: Tabelas de Sensibilidade do Retorno da Carteira de CRI
B4: ='Carteira de CRIs'!B4 -> 45870
B7: Disclaimer * As tabelas apresentadas a seguir, são referentes apenas à rentabilidade da carteira de CRI e não consideram a alocação em caixa, FIIs e outros.
K9: Taxa equivalente* da carteira de CRI em IPCA+
I11: Preço Mercado | K11: Carteira CRI (IPCA+) | L11: Carteira CRI (IPCA+) (-) Tx Adm.
B12: ="PL"&aux_sensibilidade!I24 -> PL (29/08) | C12: =aux_sensibilidade!I36 -> 3.411516e+08 | I12: {=aux_sensibilidade!J77:J90} -> 69.5 | K12: {=aux_sensibilidade!L109:L122} -> 0.2430667 | L12: {=aux_sensibilidade!L125:L138} -> 0.2270667
B13: Alocação em CRI (%PL) | D13: =aux_sensibilidade!J39 -> 0.90516131 | I13: 71.75 | K13: 0.22942191 | L13: 0.21342191
B14: Alocação CRIs CDI (% PL) | D14: =aux_sensibilidade!J45 -> 0.087348762 | I14: 74 | K14: 0.21660688 | L14: 0.20060688
B15: Alocação CRIs IPCA (%PL) | D15: =aux_sensibilidade!J46 -> 0.81781255 | I15: 76.25 | K15: 0.20454814 | L15: 0.18854814
I16: 78.5 | K16: 0.19318066 | L16: 0.17718066
B17: Alocação em Caixa | D17: =aux_sensibilidade!J42 -> 0.023192205 | I17: 80.75 | K17: 0.18244667 | L17: 0.16644667
H18: ="Cota Mercado "&aux_sensibilidade!I24 -> Cota Mercado (29/08) | I18: 83 | K18: 0.17229464 | L18: 0.15629464
B19: ="Carteira"&aux_sensibilidade!I24 -> Carteira (29/08) | C19: Aquisição | D19: MTM | I19: 85.25 | K19: 0.16267849 | L19: 0.14667849
B20: CRIs CDI+ | C20: {=aux_sensibilidade!I57:J58} -> 0.04669122 | D20: 0.046006836 | I20: 87.5 | K20: 0.15355689 | L20: 0.13755689
B21: CRIs IPCA+ | C21: 0.10250889 | D21: 0.11431834 | I21: 89.75 | K21: 0.14489264 | L21: 0.12889264
I22: 92 | K22: 0.13665219 | L22: 0.12065219
B23: Duration (Carteira) | D23: =aux_sensibilidade!I50 -> 3.625397 | I23: 94.25 | K23: 0.12880517 | L23: 0.11280517
I24: 96.5 | K24: 0.12132408 | L24: 0.10532408
B25: ="Cota PL"&aux_sensibilidade!I24 -> Cota PL (29/08) | D25: =aux_sensibilidade!I26 -> 98.265648 | I25: 98.75 | K25: 0.11418391 | L25: 0.098183905
B26: ="CotaMercado"&aux_sensibilidade!I24 -> CotaMercado (29/08) | D26: =aux_sensibilidade!I27 -> 83.14
B27: Ágio / Deságio sobre PL | D27: =(D26-D25)/D25 -> -0.1539261 | H27: Input manual | I27: 98.265648 | K27: {=aux_sensibilidade!K144:L144} -> 0.11569333 | L27: 0.099693335
I29: ¹ Tx. Adm considera taxa de administração e taxa de gestão
B30: Último DY Anualizado | D30: =aux_sensibilidade!I30 -> 0.14607223
B31: (sobre cota a mercado)
B33: As células marcada em amarelo permitem a alteração dos dados para simulação. Note que é necessário recalcular a planilha para observar os resultados (tecla F9). As nossas premissas seguem a metodologia explicada abaixo.
B35: Premissas - Input
B36: {=aux_sensibilidade!H57:H58&" (E)"} -> CDI + (E) | D36: 0.135784
B37: IPCA + (E) | D37: 0.052696
B39: Metodologia (i) como projeção do CDI em 2023, foi utilizado o FRA na duration mais próxima de um ano, calculado pelo preço de fechamento do Derivativo de Juros Futuros do DI no último dia útil do mês; (ii) como projeção do IPCA em 2023, a inflação implícita divulgada pela ANBIMA no último dia útil do mês.

Sheet aux_sensibilidade
H5: Vertices | I5: IPCA | J5: CDI | K5: IGPM
G6: CDI + | H6: 252 | I6: 0.0416 | J6: 0.142983 | K6: 0.053573978 | L6: 45898
G7: IPCA + | H7: 378 | I7: 0.046106 | J7: 0.137778 | K7: 0.049649125
G8: IGPM + | H8: 504 | I8: 0.047833 | J8: 0.134549 | K8: 0.04726438
H9: 630 | I9: 0.048839 | J9: 0.133098 | K9: 0.045839129
H10: 756 | I10: 0.049803 | J10: 0.132863 | K10: 0.044872451
H11: 882 | I11: 0.050891 | J11: 0.133352 | K11: 0.044185297
H12: 1008 | I12: 0.052098 | J12: 0.134221 | K12: 0.043645336
H13: 1134 | I13: 0.053363 | J13: 0.135244 | K13: 0.043217501
H14: 1260 | I14: 0.054624 | J14: 0.136282 | K14: 0.042834002
H15: 1386 | I15: 0.055827 | J15: 0.137251 | K15: 0.042529494
H16: 1512 | I16: 0.056934 | J16: 0.138104 | K16: 0.042267926
H17: 1638 | I17: 0.05792 | J17: 0.138815 | K17: 0.042057761
H18: 1764 | I18: 0.058768 | J18: 0.139375 | K18: 0.04187896
H19: 1890 | I19: 0.059471 | J19: 0.13978 | K19: 0.041733494
H20: 2016 | I20: 0.06003 | J20: 0.140036 | K20: 0.041607208
... H22: 2268 | I22: 0.060724 | J22: 0.140129 | K22: 0.041011155
H24: Dados Cota | I24: (29/08)
H25: Data Ref | I25: 45898 | J25: input manual - último dia útil
H26: Cota PL | I26: 98.265648 | J26: input manual todo mês
H27: Cota Mercado | I27: 83.14 | J27: input manual todo mês
H29: DY Últimos 12 meses (sobre cota a mercado) | I29: 0.13771951 | J29: input manual todo mês (não vigente)
H30: Último DY Anualizado (sobre cota a mercado) | I30: 0.14607223 | J30: input manual todo mês
H32: Taxa Adm | I32: 0
H33: Taxa Gest | I33: 0.016
H34: Taxa Adm + Gest | I34: 0.016
H36: PL | I36: 3.411516e+08
H38: Alocação | I38: Nominal | J38: Percentual
H39: CRI | I39: 3.0879723e+08 | J39: 0.90516131
H40: Compromissadas | I40: 0 | J40: 0
H41: CRIs Carrego | I41: 0 | J41: 0
H42: Cx. | I42: 7912058.1 | J42: 0.023192205
H43: FII | I43: 24857601 | J43: 0.072863796
H44: LCI | I44: 0 | J44: 0
H45: CRIs CDI | I45: 29799170 | J45: 0.087348762
H46: CRIs IPCA | I46: 2.7899806e+08 | J46: 0.81781255
H47: CRIs IGPM | I47: 0 | J47: 0
H48: CRIs Pré | I48: 0 | J48: 0
H50: Duration | I50: 3.625397 | J50: 913.60005 | K50: 1008
H52: Step tabela | I52: 2.25
...
